BEGIN:VCALENDAR
VERSION:2.0
PRODID:-//Treasure Valley Hunting Retriever Club - ECPv6.15.20//NONSGML v1.0//EN
CALSCALE:GREGORIAN
METHOD:PUBLISH
X-WR-CALNAME:Treasure Valley Hunting Retriever Club
X-ORIGINAL-URL:https://tvhrc.net
X-WR-CALDESC:Events for Treasure Valley Hunting Retriever Club
REFRESH-INTERVAL;VALUE=DURATION:PT1H
X-Robots-Tag:noindex
X-PUBLISHED-TTL:PT1H
BEGIN:VTIMEZONE
TZID:UTC
BEGIN:STANDARD
TZOFFSETFROM:+0000
TZOFFSETTO:+0000
TZNAME:UTC
DTSTART:20230101T000000
END:STANDARD
END:VTIMEZONE
BEGIN:VEVENT
DTSTART;TZID=UTC:20240413T090000
DTEND;TZID=UTC:20240413T140000
DTSTAMP:20260425T034446
CREATED:20240217T015644Z
LAST-MODIFIED:20240407T033713Z
UID:2358-1712998800-1713016800@tvhrc.net
SUMMARY:Training Day # 3
DESCRIPTION:This will be a live flyer day! \nCHANGE IN LOCATION!
URL:https://tvhrc.net/event/training-day-3/
LOCATION:Rooney Ranch\, New Plymouth Idaho\, 5435 Hwy 52\, New Plymouth\, ID\, 83655\, United States
ORGANIZER;CN="Chelsea":MAILTO:tvhrcsecretary@gmail.com
END:VEVENT
END:VCALENDAR