BEGIN:VCALENDAR
VERSION:2.0
PRODID:-//Treasure Valley Hunting Retriever Club - ECPv6.15.20//NONSGML v1.0//EN
CALSCALE:GREGORIAN
METHOD:PUBLISH
X-ORIGINAL-URL:https://tvhrc.net
X-WR-CALDESC:Events for Treasure Valley Hunting Retriever Club
REFRESH-INTERVAL;VALUE=DURATION:PT1H
X-Robots-Tag:noindex
X-PUBLISHED-TTL:PT1H
BEGIN:VTIMEZONE
TZID:UTC
BEGIN:STANDARD
TZOFFSETFROM:+0000
TZOFFSETTO:+0000
TZNAME:UTC
DTSTART:20250101T000000
END:STANDARD
END:VTIMEZONE
BEGIN:VEVENT
DTSTART;TZID=UTC:20260328T080000
DTEND;TZID=UTC:20260328T143000
DTSTAMP:20260423T184738
CREATED:20260129T191925Z
LAST-MODIFIED:20260129T234314Z
UID:3935-1774684800-1774708200@tvhrc.net
SUMMARY:2026 Training Day #2
DESCRIPTION:We will be having another training day with Flyer ducks! \nPlease go to Training day Info above to see  more info and add your name to the volunteer sheet! \nLunch will be grilled on grounds and available for purchase
URL:https://tvhrc.net/event/training-day-2-3/
LOCATION:Rooney Ranch\, New Plymouth Idaho\, 5435 Hwy 52\, New Plymouth\, ID\, 83655\, United States
ORGANIZER;CN="Chelsea":MAILTO:tvhrcsecretary@gmail.com
END:VEVENT
END:VCALENDAR