BEGIN:VCALENDAR
VERSION:2.0
PRODID:-//Treasure Valley Hunting Retriever Club - ECPv6.15.20//NONSGML v1.0//EN
CALSCALE:GREGORIAN
METHOD:PUBLISH
X-WR-CALNAME:Treasure Valley Hunting Retriever Club
X-ORIGINAL-URL:https://tvhrc.net
X-WR-CALDESC:Events for Treasure Valley Hunting Retriever Club
REFRESH-INTERVAL;VALUE=DURATION:PT1H
X-Robots-Tag:noindex
X-PUBLISHED-TTL:PT1H
BEGIN:VTIMEZONE
TZID:UTC
BEGIN:STANDARD
TZOFFSETFROM:+0000
TZOFFSETTO:+0000
TZNAME:UTC
DTSTART:20250101T000000
END:STANDARD
END:VTIMEZONE
BEGIN:VEVENT
DTSTART;TZID=UTC:20260412T083000
DTEND;TZID=UTC:20260412T143000
DTSTAMP:20260423T172542
CREATED:20260129T192202Z
LAST-MODIFIED:20260129T192452Z
UID:3937-1775982600-1776004200@tvhrc.net
SUMMARY:2026 Training Day #3
DESCRIPTION:Our final training day will be held in beautiful Indian Valley Idaho! Special thanks to Dale and Maggie Langhorne for giving us permission to use their wonderful property! \nPlease go to Training Day Info tab above to see  more info and add your name to the volunteer sheet! \nSign ups will be at 8:30 am and dog work starting at 9:30am \nLunch will be available for purchase
URL:https://tvhrc.net/event/training-day-3-3/
LOCATION:The Langhorne’s\, 2333 Meadows Ln\, Indian Valley\, ID\, 83632\, United States
ORGANIZER;CN="Chelsea":MAILTO:tvhrcsecretary@gmail.com
END:VEVENT
END:VCALENDAR