BEGIN:VCALENDAR
VERSION:2.0
PRODID:-//Treasure Valley Hunting Retriever Club - ECPv6.15.20//NONSGML v1.0//EN
CALSCALE:GREGORIAN
METHOD:PUBLISH
X-WR-CALNAME:Treasure Valley Hunting Retriever Club
X-ORIGINAL-URL:https://tvhrc.net
X-WR-CALDESC:Events for Treasure Valley Hunting Retriever Club
REFRESH-INTERVAL;VALUE=DURATION:PT1H
X-Robots-Tag:noindex
X-PUBLISHED-TTL:PT1H
BEGIN:VTIMEZONE
TZID:UTC
BEGIN:STANDARD
TZOFFSETFROM:+0000
TZOFFSETTO:+0000
TZNAME:UTC
DTSTART:20250101T000000
END:STANDARD
END:VTIMEZONE
BEGIN:VEVENT
DTSTART;TZID=UTC:20260509T080000
DTEND;TZID=UTC:20260510T170000
DTSTAMP:20260423T185350
CREATED:20260129T193147Z
LAST-MODIFIED:20260306T022401Z
UID:3945-1778313600-1778432400@tvhrc.net
SUMMARY:May 2026 Hunt Test
DESCRIPTION:Please Join us for our first hunt test of the season! \nyou can enter From April 15th until April 27th at: https://www.entryexpress.net/     Worker codes are available by request. Please reach out to Laura Nordberg if you would like one. \nWillie: judging is serious work\n 
URL:https://tvhrc.net/event/may-2026-hunt-test/
LOCATION:Rooney Ranch\, New Plymouth Idaho\, 5435 Hwy 52\, New Plymouth\, ID\, 83655\, United States
ORGANIZER;CN="Chelsea":MAILTO:tvhrcsecretary@gmail.com
END:VEVENT
BEGIN:VEVENT
DTSTART;TZID=UTC:20260626T080000
DTEND;TZID=UTC:20260628T170000
DTSTAMP:20260423T185350
CREATED:20260129T194412Z
LAST-MODIFIED:20260129T194434Z
UID:3947-1782460800-1782666000@tvhrc.net
SUMMARY:June 2026 Hunt Test --McCall
DESCRIPTION:Join us for our Double Master\, Double Senior and Double Junior Test in the beautiful McCall\, Idaho \nEntries are will Open on June 3 (Workers/Amateur Set Aside open June 2) and will close on June 15 https://www.entryexpress.net/ See Laura Nordberg for a worker code. \nWe hope to see you all there!
URL:https://tvhrc.net/event/june-hunt-test-mccall/
LOCATION:McCall Test Grounds\, 44°52'52.77"N 116°08'50.69"W\, McCall\, ID\, 83638\, United States
ORGANIZER;CN="Chelsea":MAILTO:tvhrcsecretary@gmail.com
END:VEVENT
END:VCALENDAR