BEGIN:VCALENDAR
VERSION:2.0
PRODID:-//Treasure Valley Hunting Retriever Club - ECPv6.15.20//NONSGML v1.0//EN
CALSCALE:GREGORIAN
METHOD:PUBLISH
X-WR-CALNAME:Treasure Valley Hunting Retriever Club
X-ORIGINAL-URL:https://tvhrc.net
X-WR-CALDESC:Events for Treasure Valley Hunting Retriever Club
REFRESH-INTERVAL;VALUE=DURATION:PT1H
X-Robots-Tag:noindex
X-PUBLISHED-TTL:PT1H
BEGIN:VTIMEZONE
TZID:UTC
BEGIN:STANDARD
TZOFFSETFROM:+0000
TZOFFSETTO:+0000
TZNAME:UTC
DTSTART:20240101T000000
END:STANDARD
END:VTIMEZONE
BEGIN:VEVENT
DTSTART;TZID=UTC:20250227T130000
DTEND;TZID=UTC:20250302T210000
DTSTAMP:20260424T102608
CREATED:20250221T020639Z
LAST-MODIFIED:20250221T020639Z
UID:3804-1740661200-1740949200@tvhrc.net
SUMMARY:Sportsman's Expo
DESCRIPTION:Come checkout our booth at Expo Idaho! \nIf you have interest is manning the booth or assisting in it please contact Kristi Urban at kristi.urban@me.com
URL:https://tvhrc.net/event/sportsmans-expo/
LOCATION:Expo Idaho\, 5610 N Glenwood St\, Boise\, ID\, 83714\, United States
END:VEVENT
BEGIN:VEVENT
DTSTART;TZID=UTC:20250315T080000
DTEND;TZID=UTC:20250315T150000
DTSTAMP:20260424T102608
CREATED:20250221T023006Z
LAST-MODIFIED:20250221T023847Z
UID:3808-1742025600-1742050800@tvhrc.net
SUMMARY:Training Day #1
DESCRIPTION:Welcome to the first training day of the season!! signs ups start at 8am dog work will begin at 9am. \nEmail your duck order to tvhrcsecretary@gmail.com by Sunday the 10th at 7 pm. Cost is $20/dog for members! \nLunch of hot dogs and hamburgers will be grilled on site for purchase \nPlease use the link labeled Website at the bottom to find the google sheet to sign up to volunteer. You should be able to click and start typing. If you cannot or are on the illiterate side. Send an email to the secretary and she will help you! \nSee you there!
URL:https://tvhrc.net/event/training-day-1-2/
LOCATION:Rooney Ranch\, New Plymouth Idaho\, 5435 Hwy 52\, New Plymouth\, ID\, 83655\, United States
ORGANIZER;CN="Chelsea":MAILTO:tvhrcsecretary@gmail.com
END:VEVENT
BEGIN:VEVENT
DTSTART;TZID=UTC:20250329T080000
DTEND;TZID=UTC:20250329T150000
DTSTAMP:20260424T102608
CREATED:20250221T024111Z
LAST-MODIFIED:20250221T024111Z
UID:3817-1743235200-1743260400@tvhrc.net
SUMMARY:Training Day #2
DESCRIPTION:Welcome to the second training day of the season!! signs ups start at 8am dog work will begin at 9am. \nEmail your duck order to tvhrcsecretary@gmail.com by Sunday the 24rd at 7 pm. Cost is $20/dog for members! \nLunch of hot dogs and hamburgers will be grilled on site for purchase \nPlease use the link labeled Website at the bottom to find the google sheet to sign up to volunteer. You should be able to click and start typing. If you cannot or are on the illiterate side. Send an email to the secretary and she will help you! \nSee you there!
URL:https://tvhrc.net/event/training-day-2-2/
LOCATION:Rooney Ranch\, New Plymouth Idaho\, 5435 Hwy 52\, New Plymouth\, ID\, 83655\, United States
ORGANIZER;CN="Chelsea":MAILTO:tvhrcsecretary@gmail.com
END:VEVENT
END:VCALENDAR