BEGIN:VCALENDAR
VERSION:2.0
PRODID:-//Treasure Valley Hunting Retriever Club - ECPv6.15.20//NONSGML v1.0//EN
CALSCALE:GREGORIAN
METHOD:PUBLISH
X-ORIGINAL-URL:https://tvhrc.net
X-WR-CALDESC:Events for Treasure Valley Hunting Retriever Club
REFRESH-INTERVAL;VALUE=DURATION:PT1H
X-Robots-Tag:noindex
X-PUBLISHED-TTL:PT1H
BEGIN:VTIMEZONE
TZID:UTC
BEGIN:STANDARD
TZOFFSETFROM:+0000
TZOFFSETTO:+0000
TZNAME:UTC
DTSTART:20240101T000000
END:STANDARD
END:VTIMEZONE
BEGIN:VEVENT
DTSTART;TZID=UTC:20250405T080000
DTEND;TZID=UTC:20250406T170000
DTSTAMP:20260424T090412
CREATED:20250221T012646Z
LAST-MODIFIED:20250222T230522Z
UID:3788-1743840000-1743958800@tvhrc.net
SUMMARY:Bob Owens Seminar
DESCRIPTION:This seminar is going to be focused on transitional work with retrievers (the step from single retrieves to multiples as well as handling) with emphases on AKC Hunt tests. \nBob is the owner of the Lone Duck Chronicles and is coming here to Fruitland Idaho from New York! \n  \nFor any questions please contact Tyler Stratman ty.strat89@gmail.com or 573-380-7105
URL:https://tvhrc.net/event/bob-owens-seminar/
LOCATION:Pete Ciraulo’s\, 5955 Whitley Dr\, Fruitland\, ID\, 83619\, United States
END:VEVENT
BEGIN:VEVENT
DTSTART;TZID=UTC:20250413T083000
DTEND;TZID=UTC:20250413T153000
DTSTAMP:20260424T090412
CREATED:20250221T025717Z
LAST-MODIFIED:20250221T030654Z
UID:3824-1744533000-1744558200@tvhrc.net
SUMMARY:Training Day #3
DESCRIPTION:Our final training day will be held in beautiful Indian Valley Idaho! Special thanks to Dale and Maggie Langhorne for giving us permission to use their wonderful property! \nSign ups will be at 8:30 am and dog work starting at 9:30am \nLunch will be available for purchase
URL:https://tvhrc.net/event/training-day-3-2/
LOCATION:The Langhorne’s\, 2333 Meadows Ln\, Indian Valley\, ID\, 83632\, United States
ORGANIZER;CN="Chelsea":MAILTO:tvhrcsecretary@gmail.com
END:VEVENT
END:VCALENDAR