BEGIN:VCALENDAR
VERSION:2.0
PRODID:-//Treasure Valley Hunting Retriever Club - ECPv6.15.20//NONSGML v1.0//EN
CALSCALE:GREGORIAN
METHOD:PUBLISH
X-ORIGINAL-URL:https://tvhrc.net
X-WR-CALDESC:Events for Treasure Valley Hunting Retriever Club
REFRESH-INTERVAL;VALUE=DURATION:PT1H
X-Robots-Tag:noindex
X-PUBLISHED-TTL:PT1H
BEGIN:VTIMEZONE
TZID:UTC
BEGIN:STANDARD
TZOFFSETFROM:+0000
TZOFFSETTO:+0000
TZNAME:UTC
DTSTART:20250101T000000
END:STANDARD
END:VTIMEZONE
BEGIN:VEVENT
DTSTART;TZID=UTC:20260228T093000
DTEND;TZID=UTC:20260228T130000
DTSTAMP:20260423T185017
CREATED:20260129T191524Z
LAST-MODIFIED:20260214T012918Z
UID:3930-1772271000-1772283600@tvhrc.net
SUMMARY:Pete Eromenok Seminar
DESCRIPTION:Pete will be sharing his knowledge of dog transition work this year! \nPete will be going over some cool stuff about dogs making the jump from Marking to Handling. \nCome and learn some more about your dog! \nNote: We are looking for a few dogs to be demo dogs for this. please email tvhrcsecretary@gmail.com for more info
URL:https://tvhrc.net/event/pete-eromenok-seminar/
LOCATION:Goose Buster Retrievers\, 6260 Blaine Rd\, New Plymouth\, ID\, 83655\, United States
ORGANIZER;CN="Chelsea":MAILTO:tvhrcsecretary@gmail.com
END:VEVENT
END:VCALENDAR